BEGIN:VCALENDAR
PRODID:-//eluceo/ical//2.0/EN
VERSION:2.0
CALSCALE:GREGORIAN
BEGIN:VEVENT
UID:4f01c5896100dec3493c4f25d4eb0d2e
DTSTAMP:20260423T150052Z
SUMMARY:Online seminář: Exportní příležitosti v THAJSKU a VIETNAMU
DESCRIPTION:Název akce: Online seminář: Exportní příležitosti v THAJ
 SKU a VIETNAMU\nURL: https://www.spcr.cz/online-seminar-exportni-prilezito
 sti-v-thajsku-vietnamu\nPopis: \n\nExportní online seminář plný rad a 
 tipů s konkrétními příklady z praxe pro české firmy od ředitelů
  zahraničních kanceláří CzechTrade v THAJSKU a ve VIETNAMU – ŽIV
 Ě.\nAnotace:\n\nAktuální informace z Vietnamského a Thajského trhu\,
  novinky z teritoria\nPerspektivní obory na jednotlivých trzích a expo
 rtní příležitosti pro české firmy\nJak se připravit pro vstup na da
 né trhy a jak hledat obchodní partnery\nPerspektivní využití potenci
 álu Dohody o volném obchodu mezi EU a Vietnamem (EVFTA)\nSlužby CzechTr
 ade pro exportéry\nOtázky & Odpovědi\n\nObecné informace:\n\nSvé dot
 azy k tématu můžete zaslat před online seminářem prostřednictvím p
 řihlášky\, nebo prostřednictvím chatu na akci.\nDen před konáním a
 kce Vám e-mailem zašleme prolink na danou akci.\nK účasti na online se
 mináři potřebujete pouze PC\, notebook či telefon s internetovým při
 pojením.\nAkce je ZDARMA.     \nregistrace a více informaci zde: htt
 ps://www.czechtrade.cz/kalendar-akci/archiv-akci/online-seminar_-exportni-
 prilezitosti-v-thajsku-a-vietnamu                           
 \n
URL:https://www.spcr.cz/online-seminar-exportni-prilezitosti-v-thajsku-viet
 namu
DTSTART:20220330T100000
DTEND:20220330T113000
LOCATION:
END:VEVENT
END:VCALENDAR
