BEGIN:VCALENDAR
PRODID:-//eluceo/ical//2.0/EN
VERSION:2.0
CALSCALE:GREGORIAN
BEGIN:VEVENT
UID:1bc674b97db29b74322e36cb3e45eedd
DTSTAMP:20260423T150340Z
SUMMARY:A word on digital topics
DESCRIPTION:Název akce: A word on digital topics\nURL: https://www.spcr.cz
 /word-digital-topics\nPopis: \n\nDear Sir/Madam\,\nOn behalf of the Confed
 eration of Industry of Czech Republic and Vice-President of the European P
 arliament Dita Charanzová\, we cordially invite you to our first edition 
 series of events: A word on digital topics. The series will explore the la
 test developments in digital regulation and the first edition will look at
  one half of the biggest update to Europe’s digital rules in two decades
 : the Digital Services Act (DSA). As policymakers begin their final negoti
 ations in Brussels\, questions remain as to how the DSA will impact the on
 line world\, how it will be implemented and what the impact will be for bu
 sinesses and users alike.\nThe event will take place online\, March 3 2022
 \, from 10:00 - 10:30 CET.\nPlease\, join the discussion here: https://you
 tu.be/naRBsraOMyc\n
URL:https://www.spcr.cz/word-digital-topics
DTSTART:20220303T100000
DTEND:20220303T103000
LOCATION:
END:VEVENT
END:VCALENDAR
