BEGIN:VCALENDAR
PRODID:-//eluceo/ical//2.0/EN
VERSION:2.0
CALSCALE:GREGORIAN
BEGIN:VEVENT
UID:797568dc28b71760705deefc1092f0f6
DTSTAMP:20260423T145806Z
SUMMARY:18. ročník semináře EU-UN Procurement Forum (EUPF)
DESCRIPTION:Název akce: 18. ročník semináře EU-UN Procurement Forum (E
 UPF)\nURL: https://www.spcr.cz/18-rocnik-seminare-eu-un-procurement-forum-
 eupf-0\nPopis: \n\nVe dnech 23. – 24. května 2022 se uskuteční 18. ro
 čník semináře EU-UN Procurement Forum (EUPF)\, kterého se mohou zúč
 astnit firmy z členských zemí Evropské unie zajímající se o dodávk
 y svého zboží či služeb do tendrů vypsaných OSN. Seminář EUPF v N
 ew Yorku se koná jednou ročně a je největším seminářem zaměřený
 m na dodávky do OSN. Ty v minulém roce dosáhly objemu kolem 23 miliard 
 USD. V roce 2022 se uskuteční ve dnech 23. a 24. května v České náro
 dní budově v New Yorku\, a pokud se nezmění pandemická situace\, poč
 ítá se s jeho prezenční formou.\n V roce 2022 je seminář tematicky 
 zaměřen na tyto sektory:\n\n·         Energetika: odpadové hos
 podářství a výroba energie (Energy: Waste Management and Power Generat
 ion)\n·         Zdravotnictví: zdravotnické prostředky a mater
 iál (Healthcare\, Medical Equipment and Supplies)\n·         ITC
 \, kybernetická bezpečnost a fyzická bezpečnost (Information and Commu
 nication Technologies (ITC) \,Cybersecurity and Physical Security)\n·  
        Logistika a doprava  (Logistics\, Transportation)\n·   
       Infrastruktura\, pitná voda a hygienická zařízení (Infrast
 ructure and Water Sanitation\, Purification and Hygiene (WASH)\n\nRegistra
 ce je otevřena do 25. března 2022.\nGenerální konzulát podpoří úč
 ast českých firem z prostředků projektu na podporu ekonomické diploma
 cie - PROPED\, které budou vynaloženy na snížení nákladů na účast
 nický poplatek na semináři. Výše příspěvku se bude odvíjet podle 
 počtu registrovaných českých firem.  \nOdkaz na článek k akci na we
 bových stránkách Generálního konzulátu ČR v New Yorku.\nKontakt:Lu
 cie Hindlsová  Deputy Consul General  Consulate General of the Czech Repu
 blic in New York  321 E 73rd Street\, New York\, NY 10021  phone: +1(646)4
 22-3303  cell: +1(917)251-5938 email: Lucie_Hindlsova@mzv.cz\n
URL:https://www.spcr.cz/18-rocnik-seminare-eu-un-procurement-forum-eupf-0
DTSTART:20220523T000000
DTEND:20220524T235959
LOCATION:
END:VEVENT
END:VCALENDAR
