BEGIN:VCALENDAR
PRODID:-//eluceo/ical//2.0/EN
VERSION:2.0
CALSCALE:GREGORIAN
BEGIN:VEVENT
UID:7c6ac47cdcc45f85e7f826e408b9e904
DTSTAMP:20260423T145949Z
SUMMARY:Argentina\, Uruguay (ev. Paraguay) - podnikatelská mise
DESCRIPTION:Název akce: Argentina\, Uruguay (ev. Paraguay) - podnikatelsk
 á mise\nURL: https://www.spcr.cz/argentina-uruguay-ev-paraguay-podnikatel
 ska-mise-0\nPopis: \n\nVelvyslanectví ČR v Buenos Aires organizuje ve dn
 ech 29. 3. - 31. 3. 2022 podnikatelskou misi do Argentiny\, Uruguaye\, př
 ípadně Paraguaye\, kterou povede Státní tajemník MZV ČR M. Stašek. 
 Tímto bychom rádi informovali členy SP ČR i další firmy o možnosti 
 zúčastnit se této mise.\nVíce informací\n
URL:https://www.spcr.cz/argentina-uruguay-ev-paraguay-podnikatelska-mise-0
DTSTART:20220329T000000
DTEND:20220331T235959
LOCATION:
END:VEVENT
END:VCALENDAR
