BEGIN:VCALENDAR
PRODID:-//eluceo/ical//2.0/EN
VERSION:2.0
CALSCALE:GREGORIAN
BEGIN:VEVENT
UID:f07b88a748be74a6f6690201d84f7647
DTSTAMP:20260423T150246Z
SUMMARY:5Gthon
DESCRIPTION:Název akce: 5Gthon\nURL: https://www.spcr.cz/5gthon\nPopis: \n
 \nAkce\, která změní budoucnost českých měst. Chytrá řešení s v
 yužitím potenciálu 5G sítí.\nProjekt 5G pro 5 měst se zabýval rozvo
 jem principů Smart Cities a návrhem možných řešení pro česká měs
 ta s pomocí připojení k sítím nové generace  který vyvrcholí 22. 
 února 2022 závěrečnou akcí 5Gthon.\n5Gthon je určen pro všechny\, k
 terým záleží na rozvoji českých měst a obcí\, jak už zástupcům 
 municipalit\, státní a veřejné správy\, tak i odborníkům z oblasti 
 Smart Cities a 5G. Na akci jsou rovněž vítáni zástupci inovativních 
 firem\, kteří se chtějí podílet na využití potenciálu 5G sítí.\n
 \nProgram konference\nRegistrace na konferenci\n
URL:https://www.spcr.cz/5gthon
DTSTART:20220222T090000
DTEND:20220222T170000
LOCATION:
END:VEVENT
END:VCALENDAR
