BEGIN:VCALENDAR
PRODID:-//eluceo/ical//2.0/EN
VERSION:2.0
CALSCALE:GREGORIAN
BEGIN:VEVENT
UID:d5fcbe4b79172efeab6521f98431ba7f
DTSTAMP:20260423T145751Z
SUMMARY:Setkání a konzultace s velvyslankyní Angoly
DESCRIPTION:Název akce: Setkání a konzultace s velvyslankyní Angoly\nUR
 L: https://www.spcr.cz/setkani-konzultace-s-velvyslankyni-angoly\nPopis: \
 n\nU příležitosti předání pověřovacích listin prezidentu republik
 y Miloši Zemanovi se nerezidentní velvyslankyně Angolské republiky akr
 editovaná pro ČR se sdílem v Berlíně J.E. Balbína da Silva setká s
  českými partnery a navštíví také Svaz průmyslu a dopravy ČR.\n 
 Rámcový program:16:00   úvodní slovo ředitele Sekce mezinárodních
  vztahů Svazu průmyslu a dopravy ČR pana Lukáše Martina\n16:05   vy
 stoupení paní velvyslankyně J.E. Balbíny Silvy\n16:25   vystoupení 
 pana Dieudonného Mubenzema\, jednatele společnost DEZA TECH SARL U s.r.o
  a koordinátora marketingové platformy RMDTS\n16:30   vystoupení pan
 a Antonia Leal Cordeira\, poradce Velvyslanectví Angoly v Berlíně - Ob
 chodní a investiční příležitosti v Angole\n16:45   vystoupení pan
 a Orlanda Dovaly\, předsedy Česko-angolské průmyslové a agrární kom
 ory\n16:50   postupné představení zástupců českých firem a jejich
  podnikatelských zájmů\n17:00   diskuse\n17:15   individuální roz
 hovory\n17:30   předpokládaný konec akce\nJednací jazyk: angličtina
 \, nebo tlumočení čeština – portugalština – bude upřesněno pozd
 ěji\nPotvrzení účasti/ registrace do 22.2. v odkaze zde:    https:
 //registrace.spcr.cz/Register\n
URL:https://www.spcr.cz/setkani-konzultace-s-velvyslankyni-angoly
DTSTART:20220224T140000
DTEND:20220224T160000
LOCATION:
END:VEVENT
END:VCALENDAR
