BEGIN:VCALENDAR
PRODID:-//eluceo/ical//2.0/EN
VERSION:2.0
CALSCALE:GREGORIAN
BEGIN:VEVENT
UID:0c93ce5be9660c9d164f7843a35103d3
DTSTAMP:20260423T125059Z
SUMMARY:Digitální ekonomika
DESCRIPTION:Název akce: Digitální ekonomika\nURL: https://www.spcr.cz/di
 gitalni-ekonomika-1\nPopis: \n\npokusný seminář\n
URL:https://www.spcr.cz/digitalni-ekonomika-1
DTSTART:20220214T090000
DTEND:20220214T170000
LOCATION:
END:VEVENT
END:VCALENDAR
