BEGIN:VCALENDAR
PRODID:-//eluceo/ical//2.0/EN
VERSION:2.0
CALSCALE:GREGORIAN
BEGIN:VEVENT
UID:743c879811478c744cdabc1e40f787fc
DTSTAMP:20260423T125212Z
SUMMARY:INDONESIA-EUROPE BUSINESS FORUM 2022 
DESCRIPTION:Název akce: INDONESIA-EUROPE BUSINESS FORUM 2022 \nURL: https:
 //www.spcr.cz/indonesia-europe-business-forum-2022\nPopis: \n\nThe Indones
 ian Ministry of Foreign Affairs is inviting you to attend:  INDONESIA-EU
 ROPE BUSINESS FORUM 2022  “Enhancing Partnership for Stronger Economic
  Recovery”  1-2 March 2022 \nClick here for Day 1 Registration for \
 n\nOpening session \nPanel I : Strengthening Global Health Architecture 
 \nPanel II : Investing in Energy Transition \n\nClick here for Day 2 Regi
 stration for \n\nPanel III : Global Trade and Supply Chain Resilience \n
 \n \n \n
URL:https://www.spcr.cz/indonesia-europe-business-forum-2022
DTSTART:20220301T000000
DTEND:20220302T235959
LOCATION:
END:VEVENT
END:VCALENDAR
