BEGIN:VCALENDAR
PRODID:-//eluceo/ical//2.0/EN
VERSION:2.0
CALSCALE:GREGORIAN
BEGIN:VEVENT
UID:d32f64183fb749132784cda43c8a00ba
DTSTAMP:20260423T150508Z
SUMMARY:Pokusná událost
DESCRIPTION:Název akce: Pokusná událost\nURL: https://www.spcr.cz/pokusn
 a-udalost\nPopis: \n\nkino pokus\n
URL:https://www.spcr.cz/pokusna-udalost
DTSTART:20220211T080000
DTEND:20220211T170000
LOCATION:
END:VEVENT
END:VCALENDAR
