BEGIN:VCALENDAR
PRODID:-//eluceo/ical//2.0/EN
VERSION:2.0
CALSCALE:GREGORIAN
BEGIN:VEVENT
UID:7c366b56ab9c4134e2598486432935bf
DTSTAMP:20260423T112759Z
SUMMARY:Webinář: E-commerce v MAĎARSKU a RUMUNSKU
DESCRIPTION:Název akce: Webinář: E-commerce v MAĎARSKU a RUMUNSKU\nURL:
  https://www.spcr.cz/webinar-e-commerce-v-madarsku-rumunsku\nPopis: \n\nOn
 line seminář pořádaný CzechTrade:E-commerce v MAĎARSKU a RUMUNSKU - 
 možnosti expanze pro české firmy\nRychlý vzestup e-commerce zaznámen
 ávají aktuálně téměř všechny ekonomiky světa. Jaké možnosti a p
 říležitosti se nabízejí českým firmám na trzích Maďarska a Rumun
 ska se dozvíte na online semináři.\nAnotace:Dóra Egressy\, vedoucí za
 hraniční kanceláře CzechTrade Maďarsko\n\nStávající ekonomická si
 tuace na trhu\, příležitosti pro české firmy\nVývoj e-commerce v Ma
 ďarsku\n\nLászló Szabó\, Growww Digital\, Co-Founder\, Head of Growth\
 , Google Certified Trainer \n\nLow hanging fruits in the online marketing
  aneb jak využít online marketing při zahraniční expanzi \nSpecifika
  maďarského online prostředí\n\nKryštof Rygl\, vedoucí zahraniční 
 kanceláře CzechTrade Rumunsko \n\nStávající ekonomická situace na t
 rhu\, příležitosti pro české firmy\nPředstavení e-commerce prostře
 dí v Rumunsku\nVybraná právní specifika pro provozování e-shopu v Ru
 munsku\nRady a tipy "best practice" od české firmy působící na místn
 ím trhu\n\n\nDiskuse\n\nDůležité:\n\nSvé dotazy k tématu můžete za
 slat před online seminářem prostřednictvím přihlášky\, nebo prost
 řednictvím chatu na akci.\nDen před konáním akce Vám e-mailem zašle
 me prolink na danou akci.\nK účasti na online semináři potřebujete po
 uze PC\, notebook či telefon s internetovým připojením.\nÚčastníci 
 se mohou aktivně zapojit prostřednictvím dotazů nebo být pasivními p
 osluchači\nAkce je ZDARMA\nPřihlášení zde: https://www.czechtrade.cz
 /kalendar-akci/archiv-akci/online-seminar_-e-commerce-v-madarsku-a-rumunsk
 u-moznosti-expanze-pro-ceske-firmy\n
URL:https://www.spcr.cz/webinar-e-commerce-v-madarsku-rumunsku
DTSTART:20220309T100000
DTEND:20220309T113000
LOCATION:
END:VEVENT
END:VCALENDAR
