BEGIN:VCALENDAR
PRODID:-//eluceo/ical//2.0/EN
VERSION:2.0
CALSCALE:GREGORIAN
BEGIN:VEVENT
UID:869bc5e2ec81af40c5dcb0df2fa32c27
DTSTAMP:20260423T193942Z
SUMMARY:Online seminář: Doprava zboží v mezinárodním obchodu
DESCRIPTION:Název akce: Online seminář: Doprava zboží v mezinárodním
  obchodu\nURL: https://www.spcr.cz/online-seminar-doprava-zbozi-v-mezinaro
 dnim-obchodu-1\nPopis: \n\n\n
URL:https://www.spcr.cz/online-seminar-doprava-zbozi-v-mezinarodnim-obchodu
 -1
DTSTART:20220210T080000
DTEND:20220210T170000
LOCATION:
END:VEVENT
END:VCALENDAR
