BEGIN:VCALENDAR
PRODID:-//eluceo/ical//2.0/EN
VERSION:2.0
CALSCALE:GREGORIAN
BEGIN:VEVENT
UID:489aaf5183cd70849d7c3c385c73dc70
DTSTAMP:20260423T150052Z
SUMMARY:Webinář: Logistika ve vybraných zemích se zaměřením na agri-
 food
DESCRIPTION:Název akce: Webinář: Logistika ve vybraných zemích se zam
 ěřením na agri-food\nURL: https://www.spcr.cz/webinar-logistika-ve-vybr
 anych-zemich-se-zamerenim-na-agri-food\nPopis: \n\nDovolujeme si Vás pozv
 at k účasti na webináři pořádaným Ministerstven zemědělství. Web
 inář na téma „Logistika ve vybraných zemích se zaměřením na agr
 i-food“ bude probíhat ve dnech 23. a 24. února 2022 (středa\, čtvrt
 ek) vždy od 13:00 SEČ.\nZemědělští diplomaté a místní zástupci p
 ro zemědělství Vám představí aktuální přehled o dopravě a distri
 buci produktů ve vybraných teritoriích.\nWebinář proběhne prostředn
 ictvím MS Teams v českém a částečně v anglickém jazyce (AJ).\n23
 . února 2022 – Libanon\, Japonsko\, Čína\, SAE\, Veitnam\n24. února 
 2022 – Srbsko\, USA\, Ukrajina (AJ)\, Kazachstán (AJ)\, Velká Británi
 e (AJ)\nZájemci o účast se mohou přihlásit přes formulář (přechod
  na odkaz: ctrl+klik\, popř. zkopírovat link do webového prohlížece: 
 https://forms.gle/4LrXbjB6kiXF65B37) do 21. února 2022.\nOdkaz na webiná
 ř Vám bude následně zaslán na Vaši emailovou adresu.\nPozvánka s p
 lánovaným programem k dispozici zde. \nPozn. Současně bychom Vás rá
 di upozornili na existenci sekce Proexportní okénko na stránkách Minis
 terstva zemědělství (zde)\, kde naleznete všechny důležité informac
 e k aktuálně plánovaným webinářům\, články z uskutečněných a
 kcí\, nejnovější sdělení z destinací zemědělských diplomatů\, 
 kontakty na teritorialisty a mnoho dalších užitečných novinek a zprá
 v. Nově MZ také na Facebooku - Podporujeme agrární export (přechod na
  odkaz ctrl+kliknutí).\n
URL:https://www.spcr.cz/webinar-logistika-ve-vybranych-zemich-se-zamerenim-
 na-agri-food
DTSTART:20220223T130000
DTEND:20220224T235959
LOCATION:
END:VEVENT
END:VCALENDAR
