BEGIN:VCALENDAR
PRODID:-//eluceo/ical//2.0/EN
VERSION:2.0
CALSCALE:GREGORIAN
BEGIN:VEVENT
UID:cd0bc16273d8a81aa8e13194c2ceeb70
DTSTAMP:20260423T125059Z
SUMMARY:7. EU-Africa Business Forum
DESCRIPTION:Název akce: 7. EU-Africa Business Forum\nURL: https://www.spcr
 .cz/7-eu-africa-business-forum\nPopis: \n\nEvropská komise spolu s Africk
 ou unijní komisí pořádá fórum na nejvyšší politické úrovni ve d
 nech 17. a 18. února 2022. \nWe are pleased to inform you that the regis
 trations for attending the 7th EU-Africa Business Forum are now open. Due
  to the ongoing pandemic\, the event will be held 100% in virtual format. 
 The EABF conists of the forum itself\, which takes place on 16 and 17 Febr
 uary 2022\, as well as a virtual marketplace with side events\, virtual bo
 oths\, Business to Business and Business to Government meetings\, etc.\, w
 hich will be held during the entire week of 14 February. You can find more
  information below and in the flyer here.\nThe 7TH EU-AFRICA BUSINESS FO
 RUM (EABF22)\, centered on BUILDING STRONGER VALUE CHAINS FOR SUSTAINABL
 E GROWTH AND DECENT JOBS will take place in Brussels virtually during t
 he whole week of 14th to 18th February 2022.\nIt will be held back-to-back
  with the Heads of State’s and Governments Africa-EU Summit on 17-18 F
 ebruary. EABF22 will be organised in the framework of the Africa-Europe 
 Week featuring a rich series of events with civil society\, youth and ot
 her key actors of Africa-EU relations.\nCo-organised by the European Commi
 ssion and the African Union Commission together with key EU and African 
 business organisations\, the forum will welcome EU and AU Commissioners\, 
 top-level policy makers and senior business leaders from the two contine
 nts. EABF22 will also be strategically supported by a number of EU and Af
 rican institutions\, such as European Investment Bank\, the African Devel
 opment Bank\, Afreximbank and the European Development Financial Institu
 tions\, as well as the Africa Europe Foundation.\nYOU CAN REGISTER HERE TO
  ATTEND THE EABF2022 FORUM\nAS A PARTICIPANT\, you will have the opportuni
 ty to engage with high-level decision-makers policy reforms with implicat
 ions for EU-Africa trade and investment relations\, as well as explore new
  business opportunities\, and in particular:\n- ATTEND ONLINE * HIGH LEVE
 L PANELS\nwith the participation of senior political and business figures 
 will cover strategic areas of business\, trade and investment cooperatio
 n between Europe and Africa.\n- JOIN ONLINE WORKSHOPS AND SEMINARS\nup to 
 100 workshops and seminars on key topics supporting the development of EU-
 Africa relationship (virtual events only).\n- ATTEND EXCLUSIVE ONLINE SMA
 LL-SCALE MEETINGS\nbringing together businesses and governments (B2B\; B2G
 ).\n- NETWORK WITH PEERS\nmeet and mingle with likeminded individuals and 
 organisations online.\n- VISIT ONLINE BOOTHS\nheld by professional organi
 sations and institutions.\nEnabling the deployment and scaling-up of susta
 inable value chains offers immense business\, trade\, investment & employ
 ment opportunities for our two continents. It is therefore crucial for you
  to let us know your interest in attending EABF22. You can also participa
 te even more actively\, for instance by having a digital booth at the Trad
 e Fair. Should you be interested\, you will find more information and the 
 registration link in the brochure.\nWE LOOK FORWARD TO WELCOMING YOU DIGIT
 ALY AT EABF22!\n\n\n\n\nH.E. Albert Muchanga \nAfrican Union Commissioner
  for Economic \nDevelopment\, Trade\, Industry and Mining          
 \n\n\nJutta Urpilainen\nEuropean Commissioner\nfor International Partnersh
 ips\n
URL:https://www.spcr.cz/7-eu-africa-business-forum
DTSTART:20220217T000000
DTEND:20220218T235959
LOCATION:
END:VEVENT
END:VCALENDAR
