BEGIN:VCALENDAR
PRODID:-//eluceo/ical//2.0/EN
VERSION:2.0
CALSCALE:GREGORIAN
BEGIN:VEVENT
UID:1a94fce02d05436a349a5cedc817788e
DTSTAMP:20260423T173605Z
SUMMARY:Webinář o programu Low Carbon Business Action pro země V4
DESCRIPTION:Název akce: Webinář o programu Low Carbon Business Action pr
 o země V4\nURL: https://www.spcr.cz/webinar-o-programu-low-carbon-busines
 s-action-pro-zeme-v4-0\nPopis: \n\nČeské firmy jsou zvány k účasti na
  chystaném webináři o "Low Carbon Business Action and Circular Economy
 "\, programu EU\, který od loňska umožňuje evropským malým a středn
 ím podnikům vstup na kanadský trh v rámci dodávek řešení pro kon
 krétní kanadské výzvy v udržitelnosti a cirkulární ekonomice.V rám
 ci maďarského předsednictví V4 budou představeny obecné informace o 
 programu\, promluví také paní Kollerová z Nafigate o jejich zkušenost
 i s účastí v předchozích výzvách programu.\nAkce proběhne 10. úno
 ra 2022 od 15 hodin\, více informací najdete v odkaze na webu generáln
 ího konzulátu v Torontu.\nV průběhu tohoto pololetí budou v rámci n
 ávazné akce poskytnuty také aktuální informace o červnové vlně vý
 zev LCBA pro Kanadu.\nKontakt:\nEva Libs BartoňováHead of Trade and Inve
 stment SectionConsulate General of the Czech Republic in TorontoT: (+1) 41
 6 972 1476\, M: (+1) 416 473 8674Email: eva_bartonova@mzv.cz  \n
URL:https://www.spcr.cz/webinar-o-programu-low-carbon-business-action-pro-z
 eme-v4-0
DTSTART:20220210T150000
DTEND:20220210T170000
LOCATION:
END:VEVENT
END:VCALENDAR
