BEGIN:VCALENDAR
PRODID:-//eluceo/ical//2.0/EN
VERSION:2.0
CALSCALE:GREGORIAN
BEGIN:VEVENT
UID:7b86698e2a5e20057789a994eb86f9c1
DTSTAMP:20260423T125014Z
SUMMARY:Webinář o možnostech podnikání v Japonsku
DESCRIPTION:Název akce: Webinář o možnostech podnikání v Japonsku\nUR
 L: https://www.spcr.cz/webinar-o-moznostech-podnikani-v-japonsku\nPopis: \
 n\nOdbor ekonomické diplomacie MZV ČR si Vás dovoluje pozvat na webiná
 ř o aktuálních podnikatelských a investičních příležitostech pro 
 české firmy a podnikatele v Japonsku.\nWebinář bude zaměřen primárn
 ě na perspektivní obory na současném japonském trhu a z nich vyplýva
 jící příležitosti pro české firmy. Nebudou chybět ani informace o 
 aktuálním vývoji japonské ekonomiky\, obchodních vztazích mezi ČR a
  Japonskem nebo odlišnosti v kultuře obchodního jednání.\nS informace
 mi o japonském trhu vystoupí Ondřej Svoboda\, ekonomický diplomat Velv
 yslanectví ČR v Tokiu.\nWebinář proběhne ve čtvrtek 24. února od
  9:00 SEČ přes platformu WebinarJam.\nNa webinář je nutná registra
 ce předem. Registrovat se můžete zde. Účast na webináři je zdarma.
 \n
URL:https://www.spcr.cz/webinar-o-moznostech-podnikani-v-japonsku
DTSTART:20220224T090000
DTEND:20220224T110000
LOCATION:
END:VEVENT
END:VCALENDAR
