BEGIN:VCALENDAR
PRODID:-//eluceo/ical//2.0/EN
VERSION:2.0
CALSCALE:GREGORIAN
BEGIN:VEVENT
UID:ecf298839c6c60d1f58b007cc57e563a
DTSTAMP:20260423T125850Z
SUMMARY:International Agricultural Fair (IAF) Novi Sad 2022
DESCRIPTION:Název akce: International Agricultural Fair (IAF) Novi Sad 202
 2\nURL: https://www.spcr.cz/international-agricultural-fair-iaf-novi-sad-2
 022\nPopis: \n\nMinisterstvo zemědělství zve české firmy k účasti n
 a společné expozici na prestižním mezinárodním zemědělském veletr
 hu International Agricultural Fair (IAF) Novi Sad 2022\, který se uskute
 ční ve dnech 21. – 27. května 2022 na výstavišti v Novém Sadu (Srb
 sko).\nVíce informací o podmínkách účasti na společné expozici zí
 skáte na odkazu níže.\nhttps://eagri.cz/public/web/mze/ministerstvo-zem
 edelstvi/proexportni-okenko/mezinarodni-veletrhy-a-vystavy/mze-se-ucastni-
 v-srbsku-2022.html\n
URL:https://www.spcr.cz/international-agricultural-fair-iaf-novi-sad-2022
DTSTART:20220521T080000
DTEND:20220527T170000
LOCATION:
END:VEVENT
END:VCALENDAR
