BEGIN:VCALENDAR
PRODID:-//eluceo/ical//2.0/EN
VERSION:2.0
CALSCALE:GREGORIAN
BEGIN:VEVENT
UID:55da0db0acf82855dac80b0b88a8db77
DTSTAMP:20260423T125029Z
SUMMARY:Právní prostor
DESCRIPTION:Název akce: Právní prostor\nURL: https://www.spcr.cz/pravni-
 prostor\nPopis: \n\nZveme vás na jubilejní 10. ročník odborného práv
 ního kongresu PRÁVNÍ PROSTOR\, který proběhne 12. - 13. 4. dubna 2022
  v hotelu Jezerka v Seči.\n\nPodrobnosti k programu a registrace zde. Čl
 enové Svazu průmyslu a dopravy ČR mají slevu 2000 Kč z účastnickéh
 o poplatku.\n
URL:https://www.spcr.cz/pravni-prostor
DTSTART:20220412T000000
DTEND:20220413T235959
LOCATION:
END:VEVENT
END:VCALENDAR
