BEGIN:VCALENDAR
PRODID:-//eluceo/ical//2.0/EN
VERSION:2.0
CALSCALE:GREGORIAN
BEGIN:VEVENT
UID:73b344fa95761888d01736cfc5dc17ab
DTSTAMP:20260423T150053Z
SUMMARY:Webinář pro české firmy k programu ekonomické diplomacie PROPE
 A v roce 2022
DESCRIPTION:Název akce: Webinář pro české firmy k programu ekonomické
  diplomacie PROPEA v roce 2022\nURL: https://www.spcr.cz/webinar-pro-ceske
 -firmy-k-programu-ekonomicke-diplomacie-propea-v-roce-2022\nPopis: \n\nDov
 olujeme si Vás informovat\, že odbor ekonomické diplomacie MZV ČR orga
 nizuje prostřednictvím aplikace TEAMS webinář pro české firmy\, kter
 ý je zaměřen na podporu a propagaci projektů ekonomických aktivit v z
 ahraničí (PROPEA).\nNástroj PROPEA slouží na podporu budování trval
 ejší přítomnosti českých firem na zahraničních trzích. Exportéř
 i tímto nástrojem získávají možnost využívat služeb místních ex
 pertních poradců v zahraničních zemích a to za dotovanou cenu. Během
  webináře proběhne stručné představení výhod projektů PROPEA.\nVy
 stupující:       zástupci MZV-OED\, Hospodářské komory a Svazu 
 průmyslu a dopravy ČR\, vybraných zastupitelských úřadů/ZÚ i firem
  se zkušenostmi s PROPEA a nových  ZÚ v teritoriích s perspektivou r
 ozvoje bilaterálních ekonomických  vztahů\nProgram:\n15:00     
        - zahájení webináře - M. Svoboda\, ředitel Odboru ekonom
 ické diplomacie\, MZV ČR\n15:05            - stručné předs
 tavení programu PROPEA (powerpointová prezentace)\n15:15        
     - vystoupení  zástupců podnikatelské reprezentace:\n- Jiří H
 ansl\, ředitel zahraničního odboru\, Hospodářská komora ČR\n- Luká
 š Martin\, ředitel sekce mezinárodních vztahů\, Svaz průmyslu a dopr
 avy\n15:25            - zkušenosti zastupitelského úřadu s 
 realizací PROPEA a vystoupení zástupce úřadu z nového  teritoria s
  perspektivou bilaterálních ekonomických vztahů (ZÚ Mexiko\, GK Sao 
 Paulo)\n15:35            - zkušenosti české podnikatelské s
 féry s PROPEA (R. Jelínek\, p. Ľubomír Čul)\n15:40         
    - diskuse\n16:00            - závěr webináře\nPřihlá
 šení do webináře možné zde.\n
URL:https://www.spcr.cz/webinar-pro-ceske-firmy-k-programu-ekonomicke-diplo
 macie-propea-v-roce-2022
DTSTART:20220215T150000
DTEND:20220215T235959
LOCATION:
END:VEVENT
END:VCALENDAR
