BEGIN:VCALENDAR
PRODID:-//eluceo/ical//2.0/EN
VERSION:2.0
CALSCALE:GREGORIAN
BEGIN:VEVENT
UID:29795a77191e9f7b4894aa891ae03a8e
DTSTAMP:20260423T125219Z
SUMMARY:Zálohový systém na obaly a nápoje
DESCRIPTION:Název akce: Zálohový systém na obaly a nápoje\nURL: https:
 //www.spcr.cz/zalohovy-system-na-obaly-napoje\nPopis: \n\nSP ČR pro vás 
 připravil bezplatný seminář k tématu zálohový systém na obaly na n
 ápoje.\nV první části seminář nabídne několik prezentací a různ
 ých pohledů na fungování zálohového systému\, jeho možné dopady\,
  přínosy či obavy\, finanční a technologické souvislosti i zkušenos
 ti ze zahraničí. Následovat bude diskusní část pouze pro členy Svaz
 u jak nad otevřenými otázkami\, tak nad pozicemi členů.\n\nSeminář 
 proběhne 23. 2. 2022 od 9:00\, registrujte se včas.\n\n\nPodrobný progr
 am semináře\n
URL:https://www.spcr.cz/zalohovy-system-na-obaly-napoje
DTSTART:20220223T090000
DTEND:20220223T141500
LOCATION:
END:VEVENT
END:VCALENDAR
