BEGIN:VCALENDAR
PRODID:-//eluceo/ical//2.0/EN
VERSION:2.0
CALSCALE:GREGORIAN
BEGIN:VEVENT
UID:d5be62659742cc6d8a04cb6d579d5810
DTSTAMP:20260423T162951Z
SUMMARY:Online konzultace se zemědělskou diplomatkou v Japonsku
DESCRIPTION:Název akce: Online konzultace se zemědělskou diplomatkou v J
 aponsku\nURL: https://www.spcr.cz/online-konzultace-se-zemedelskou-diploma
 tkou-v-japonsku\nPopis: \n\nMinisterstvo zemědělství ČR organizuje DE
 N SE ZEMEDĚLSKOU DIPLOMATKOU v Japonsku Ing. Irenou LeopoldovouONLINE I
 NDIVIDUÁLNÍ SETKÁNÍ (á 30 min) proběhnou ve středu 9. února 2022 o
 d 7 h do 15 h SEČ.\nZemědělská diplomatka\, Ing. Irena Leopoldová\, j
 e připravena prodiskutovat se zástupci českých firem konkrétní téma
 ta z daného teritoria.INDIVIDUÁLNÍ KONZULTACE budou mít časovou dotac
 i á 30 min\, proběhnou na platformě MS Teams. Účast je zdarma.V pří
 padě zájmu\, prosím\, pište do 4. února 2022 na email: zuzana.hercik
 ova@mze.cz Vaše preferované časové rozmezí nebo volejte na tel. 221
  812 868.\nPotvrzený termín schůzky a odkaz pro přihlášení obdrž
 íte e-mailem nejpozději do tří dnů od zaslání Vašeho požadavku.Po
 zvánku naleznete zde.\nKontakt:Ing. Zuzana HercíkováOdd. zemí SNS\, Af
 riky a proexp. politikyMinisterstvo zemědělstvíTěšnov 17\, 110 00  P
 raha 1Tel.: +420 221 812 868Zuzana.Hercikova@mze.czwww.eagri.cz\n \n
URL:https://www.spcr.cz/online-konzultace-se-zemedelskou-diplomatkou-v-japo
 nsku
DTSTART:20220209T070000
DTEND:20220209T150000
LOCATION:
END:VEVENT
END:VCALENDAR
