BEGIN:VCALENDAR
PRODID:-//eluceo/ical//2.0/EN
VERSION:2.0
CALSCALE:GREGORIAN
BEGIN:VEVENT
UID:4eee3f8021ef5d60781816d9e674a0ce
DTSTAMP:20260423T174042Z
SUMMARY:Online seminář: Expanze na NĚMECKÝ trh z pohledu daní
DESCRIPTION:Název akce: Online seminář: Expanze na NĚMECKÝ trh z pohle
 du daní\nURL: https://www.spcr.cz/online-seminar-expanze-na-nemecky-trh-z
 -pohledu-dani\nPopis: \n\nDovolujeme si Vás pozvat na zajímavý seminá
 ř pořádaní agenturou Czech Trade.\n\nPřehled užitečných informací
  ohledně daní v Německu\, které se přímo vztahují na české export
 éry.\nProbereme\, jak na registraci k daním\, DPH\, daň z příjmu\, mz
 dy\, závěrku\, kontrolu finančního úřadu a speciality vybraných odv
 ětví.\n\nVíce informací zde.\n
URL:https://www.spcr.cz/online-seminar-expanze-na-nemecky-trh-z-pohledu-dan
 i
DTSTART:20220203T100000
DTEND:20220203T120000
LOCATION:
END:VEVENT
END:VCALENDAR
