BEGIN:VCALENDAR
PRODID:-//eluceo/ical//2.0/EN
VERSION:2.0
CALSCALE:GREGORIAN
BEGIN:VEVENT
UID:222807e3940da9f55c25fb4202fd7365
DTSTAMP:20260423T130350Z
SUMMARY:Online seminář: Aktuální situace a obchodní možnosti na UKRAJ
 INSKÉM trhu
DESCRIPTION:Název akce: Online seminář: Aktuální situace a obchodní m
 ožnosti na UKRAJINSKÉM trhu\nURL: https://www.spcr.cz/online-seminar-akt
 ualni-situace-obchodni-moznosti-na-ukrajinskem-trhu\nPopis: \n\nDovolujeme
  si Vás pozvat na zajímaví seminář pořádaný agenturou CzechTrade\,
  na kterém se dovíte praktické informace pro české exportéry zajíma
 jící se o ukrajinský trh od ředitelky zahraniční kanceláře CzechTr
 ade v Kyjevě\, Oksany Antonenko a jejích hostů.\n\nEkonomické klima
  v zemi\, perspektivní obory pro český export\, praktické tipy pro ob
 chodování\, místní zvyklosti.\nLegislativa podnikání na Ukrajině\, 
 nejpodstatnější rozdíly aneb Ukrajina není v EU.\nZkušenosti a pří
 klady z praxe od úspěšného exportéra.\n\nVíce informací zde.\n
URL:https://www.spcr.cz/online-seminar-aktualni-situace-obchodni-moznosti-n
 a-ukrajinskem-trhu
DTSTART:20220201T100000
DTEND:20220201T113000
LOCATION:
END:VEVENT
END:VCALENDAR
