BEGIN:VCALENDAR
PRODID:-//eluceo/ical//2.0/EN
VERSION:2.0
CALSCALE:GREGORIAN
BEGIN:VEVENT
UID:af5ad9eb44adf3e0f9d352036e647f42
DTSTAMP:20260423T163124Z
SUMMARY:Online seminář: Vodíková strategie v INDII a příležitosti pr
 o české firmy
DESCRIPTION:Název akce: Online seminář: Vodíková strategie v INDII a p
 říležitosti pro české firmy\nURL: https://www.spcr.cz/online-seminar-
 vodikova-strategie-v-indii-prilezitosti-pro-ceske-firmy\nPopis: \n\nIndie 
 se řadí mezi nejrychleji se rozvíjející ekonomiky světa a je považo
 vána za jednu z budoucích ekonomických velmocí. V souladu se světov
 ým trendem sestavila indická vláda strategii pro využívání vodíku 
 a vodíkových technologií. Země je v této oblasti na začátku rozvoj
 e a aplikace\, což přináší řadu příležitostí pro české firmy.A
 notace:\n\nStručné shrnutí vodíkové strategie České Republiky.\nAkt
 uální situace na indickém trhu.\nVstup na indický trh: nabídka slu
 žeb CT.\nShrnutí vodíkové strategie indické vlády – Hydrogen Energ
 y Mission\, 2021.\nPříležitosti pro české firmy.\nPředstavení plán
 ovaného projektu Mise českých energetických firem do Indie.\nVystoupen
 í indického oborového experta.\nDotazy\, diskuze\n\nDůležité:\n\nSv
 é dotazy k tématu můžete zaslat před online seminářem prostřednict
 vím přihlášky\, nebo prostřednictvím chatu na akci.\nDen před koná
 ním akce Vám e-mailem zašleme prolink na danou akci.\nK účasti na onl
 ine semináři potřebujete pouze PC\, notebook či telefon s internetový
 m připojením.\nAkce je ZDARMA.\nÚčastníci se mohou aktivně zapojit p
 rostřednictvím dotazů nebo být pasivními posluchači\n
URL:https://www.spcr.cz/online-seminar-vodikova-strategie-v-indii-prilezito
 sti-pro-ceske-firmy
DTSTART:20220125T100000
DTEND:20220125T113000
LOCATION:
END:VEVENT
END:VCALENDAR
