BEGIN:VCALENDAR
PRODID:-//eluceo/ical//2.0/EN
VERSION:2.0
CALSCALE:GREGORIAN
BEGIN:VEVENT
UID:3b172eb242ff20ac952b10e8f754bb63
DTSTAMP:20260423T163130Z
SUMMARY:Online seminář: Pojďme exportovat do AUSTRÁLIE
DESCRIPTION:Název akce: Online seminář: Pojďme exportovat do AUSTRÁLIE
 \nURL: https://www.spcr.cz/online-seminar-pojdme-exportovat-do-australie\n
 Popis: \n\nOnline seminář: Pojďme exportovat do AUSTRÁLIE\n\n \nÚsp
 ěšný export do Austrálie – na co se připravit. Současná ekonomick
 á situace v Australském společenství. Jak covid ovlivnil ekonomiku a p
 optávku po evropském zboží. Co mohu očekávat a co ne? Exportní slu
 žby\, které poskytujeme\, a které si firmy chválí. Co se již v rámc
 i exportu do Austrálie podařilo? - praktické zkušenosti české firmy.
  Rady a tipy pro úspěšný export do Austrálie. A co třeba i Nový Zé
 land?\n Akce je ZDARMA.\n
URL:https://www.spcr.cz/online-seminar-pojdme-exportovat-do-australie
DTSTART:20220202T090000
DTEND:20220202T103000
LOCATION:
END:VEVENT
END:VCALENDAR
