BEGIN:VCALENDAR
PRODID:-//eluceo/ical//2.0/EN
VERSION:2.0
CALSCALE:GREGORIAN
BEGIN:VEVENT
UID:e9355757052ba777bf9b76b98e91a7e1
DTSTAMP:20260423T130652Z
SUMMARY:Diskuze k analýze „Vývoj\, přípravy a realizace návrhů digi
 tální daně“
DESCRIPTION:Název akce: Diskuze k analýze „Vývoj\, přípravy a realiz
 ace návrhů digitální daně“\nURL: https://www.spcr.cz/diskuze-k-anal
 yze-vyvoj-pripravy-realizace-navrhu-digitalni-dane-1\nPopis: \n\nSvaz prů
 myslu a dopravy ČR si nechal zpracovat analýzu „Vývoj\, přípravy a 
 realizace návrhů digitální daně“ (analýza je ke stažení zde) a
  nyní připravujeme on-line diskuzi\, která se uskuteční 18. ledna 20
 22 od 10h.\nÚvahy o zdanění digitálního sektoru se přetavily až do 
 aktuálního konsensuálního dvoupiliřového řešení OECD. Nyní se n
 ávrhy\, ke kterým se přihlásilo 136 států\, precizují a čeká se d
 ebata o detailech a způsobu implementace návrhů do daňových systémů
  signatářských zemí. (Více si můžete přečíst např. v aktuáln
 ím vydání Spektra na str. 30 a 31). Než bude dohodnutý konsensus imp
 lementován\, což by mělo být dle plánu do roku 2023\, budou platit st
 ávající pravidla pro digitální zdanění\, která byla v některých
  zemích dosud přijata. Může se stát\, že dílčí problémy\, které
  vzejdou z implementace\, oddálí realizaci až za rok 2023. Z našeho 
 pohledu je termín 2023 velmi ambiciózní a nemyslíme si\, že bude dodr
 žen.\nDo doby implementace návrhů OECD tak lze čekat\, že v někter
 ých zemích budou existovat i již zavedené digitální daně jako doča
 sné řešení\, byť dle dohody některých států by systém neměl jí
 t nad rámec toho\, co se připravuje v rámci OECD. Proto je možné\, 
 že ještě několik dalších let bude téma digitální daně stále akt
 uální.\nRádi bychom umožnili i širší diskuzi v rámci zástupců 
 členských firem\, zástupců státu i odborné veřejnosti. Připojit s
 e k představení analýzy a k diskuzi můžete 18. ledna 2022 od 10h bez 
 registrace prostřednictvím Google Meet na tomto odkazu.\n
URL:https://www.spcr.cz/diskuze-k-analyze-vyvoj-pripravy-realizace-navrhu-d
 igitalni-dane-1
DTSTART:20220118T100000
DTEND:20220118T120000
LOCATION:
END:VEVENT
END:VCALENDAR
