BEGIN:VCALENDAR
PRODID:-//eluceo/ical//2.0/EN
VERSION:2.0
CALSCALE:GREGORIAN
BEGIN:VEVENT
UID:09fb1f55e3f416e28bde0a4feab20851
DTSTAMP:20260423T162942Z
SUMMARY:WEBINÁŘ BREXIT: ZMĚNY PO 1. LEDNU 2022
DESCRIPTION:Název akce: WEBINÁŘ BREXIT: ZMĚNY PO 1. LEDNU 2022\nURL: ht
 tps://www.spcr.cz/webinar-brexit-zmeny-po-1-lednu-2022\nPopis: \n\nOdbor e
 konomické diplomacie Ministerstva zahraničních věcí ČR si Vás dovol
 uje pozvat na webinář o změnách v obchodování se Spojeným královs
 tvím po 1. lednu 2022.\n\n\n\n\n\n\n\n\n\n\n\n\n\n\nVelká Británie chys
 tá od nového roku velké změny\, které ovlivní i české dopravce a v
 ývozce. Od 1. ledna 2022 zavádí na hranicích úplné celní kontroly v
 eškerého importovaného zboží. Ve většině britských přístavů a
  Eurotunelu bude využíván elektronický celní systém\, který propoju
 je předem podaná celní prohlášení do jednoho referenčního čísla.
 \nJak se tyto změny dotknou českých exportérů\, se dozvíte na webin
 áři\, který proběhne v úterý 18. ledna 2022 od 14:00 SEČ přes
  online platformu Webinar Jam.\nNa webináři vystoupí Michaela Chrtová
 \, ekonomická diplomatka Velvyslanectví ČR v Londýně. Úvodní slovo
  pronese zástupce Ministerstva zahraničních věcí ČR.\nZákladní inf
 ormace k chystaným změnám si můžete již nyní přečíst před v 
 článku Michaely Chrtové na webu Export.cz.\nNa webinář je nutná reg
 istrace předem přes registrační formulář\, který naleznete zde.\n\
 n\n\n\n\n\n Další info zde: https://www.export.cz/akce/webinar-brexit-
 zmeny-po-1-lednu-2022/\n\n\n\n\n \n
URL:https://www.spcr.cz/webinar-brexit-zmeny-po-1-lednu-2022
DTSTART:20220118T140000
DTEND:20220118T150000
LOCATION:
END:VEVENT
END:VCALENDAR
