BEGIN:VCALENDAR
PRODID:-//eluceo/ical//2.0/EN
VERSION:2.0
CALSCALE:GREGORIAN
BEGIN:VEVENT
UID:c6aac47682051eab210cb99468f06ebe
DTSTAMP:20260423T150133Z
SUMMARY:Summit koncepce BIM
DESCRIPTION:Název akce: Summit koncepce BIM\nURL: https://www.spcr.cz/summ
 it-koncepce-bim\nPopis: \n\nDruhý ročník Summitu Koncepce BIM se uskut
 eční 24. února 2022 na výstavišti PVA EXPO v Praze. Stejně jako v p
 řípadě úspěšného prvního ročníku\, nabízí summit jedinečné 
 neformální setkání návštěvníků z řad všech stavebních profesí
 \, se zástupci vlád a veřejné správy od nás i z řady evropských ze
 mí.  Aktuální program a registrace najdete zde.\n
URL:https://www.spcr.cz/summit-koncepce-bim
DTSTART:20220224T000000
DTEND:20220224T235959
LOCATION:
END:VEVENT
END:VCALENDAR
