BEGIN:VCALENDAR
PRODID:-//eluceo/ical//2.0/EN
VERSION:2.0
CALSCALE:GREGORIAN
BEGIN:VEVENT
UID:e0f31e5273487364f30a2c0f2fa8023a
DTSTAMP:20260423T125644Z
SUMMARY:Online konference Průmysl 4.0 - příklady dobré praxe
DESCRIPTION:Název akce: Online konference Průmysl 4.0 - příklady dobré
  praxe\nURL: https://www.spcr.cz/online-konference-prumysl-40-priklady-dob
 re-praxe\nPopis: \n\nZveme vás na online konferenci Průmysl 4.0 - Přík
 lady dobré praxe\, kterou pořádá Svaz průmyslu a dopravy ČR.\nKonfer
 ence představí moderní a inovativní projekty digitální transformace 
 firem. Účastníkům příklady vybraných projektů mohou inspirovat a m
 otivovat je ke sledování trendů a zavádění moderních technologií a
  prvků Průmyslu 4.0 i do svých podniků.\nNa konferenci se můžete tě
 šit na tyto projekty:\n\nDigitální transformace firmy\, Jan Keprda\, ř
 editel společnosti ASTRA MOTOR spol. s r.o.\nProjekt e-Robot\, Vladimír 
 Lhotský a Lukáš Žďánský\, Blumenbecker Prag s.r.o.\nsystém PlantWa
 tch\, Daniel Sliž\, vedoucí ROC Linde Gas a.s.\n\nAkce bude živě vysí
 lána na YouTube. Odkaz ke sledování získají účastníci po registrac
 i\, která je zdarma. Registrujte se zde: https://registrace.spcr.cz/?even
 tId=933&controller=event&task=individualRegister\n
URL:https://www.spcr.cz/online-konference-prumysl-40-priklady-dobre-praxe
DTSTART:20211214T100000
DTEND:20211214T123000
LOCATION:
END:VEVENT
END:VCALENDAR
