BEGIN:VCALENDAR
PRODID:-//eluceo/ical//2.0/EN
VERSION:2.0
CALSCALE:GREGORIAN
BEGIN:VEVENT
UID:7e8100d464cfbd7e7c27f5981ee03c6c
DTSTAMP:20260423T125013Z
SUMMARY:Sourcing TAIWAN 2022 – Machinery - online
DESCRIPTION:Název akce: Sourcing TAIWAN 2022 – Machinery - online\nURL: 
 https://www.spcr.cz/sourcing-taiwan-2022-machinery-online\nPopis: \n\nSour
 cing TAIWAN 2022 – Machinery\, který se bude konat pod záštitou dvou 
 významných strojírenských veletrhů TIMTOS x TMTS\, zve potenciální 
 kupce strojní technologie na online B2B setkání s nejvýznamnejšími t
 aiwanskými dodavateli strojních technologií. Sourcing TAIWAN 2022 – M
 achinery se uskuteční v online formě 21. února 2022 a události se zú
 častní velké množství vystavovatelů. Firmy\, které se zúčastní o
 nline meetingů budou mít příležitost obhlédnout si i veletrh.\n
URL:https://www.spcr.cz/sourcing-taiwan-2022-machinery-online
DTSTART:20220221T000000
DTEND:20220221T235959
LOCATION:
END:VEVENT
END:VCALENDAR
