BEGIN:VCALENDAR
PRODID:-//eluceo/ical//2.0/EN
VERSION:2.0
CALSCALE:GREGORIAN
BEGIN:VEVENT
UID:bee29bbd778160f5d37e75ceb3d740a0
DTSTAMP:20260423T150508Z
SUMMARY:Online konference Trendy na trhu práce
DESCRIPTION:Název akce: Online konference Trendy na trhu práce\nURL: http
 s://www.spcr.cz/online-konference-trendy-na-trhu-prace\nPopis: \n\nZveme v
 ás na online konferenci Trendy na trhu práce\, na které představíme v
 ýsledky analýz\, které vznikly exkluzivně pro Svaz průmyslu a dopravy
  ČR.\nZajímá vás\, co očekávají zaměstnavatelé od současných ab
 solventů vysokých škol\, jak by se měl nastavit předvídatelný mecha
 nismus pro vývoj minimální mzdy nebo jak nastavit efektivně podporu ex
 portu? Pak je konference právě pro vás. Celý program najdete níže.\n
 Konference je přístupná zdarma\, stačí se zaregistrovat: https://regi
 strace.spcr.cz/?eventId=930&controller=event&task=individualRegister\n
URL:https://www.spcr.cz/online-konference-trendy-na-trhu-prace
DTSTART:20211209T100000
DTEND:20211209T112500
LOCATION:
END:VEVENT
END:VCALENDAR
