BEGIN:VCALENDAR
PRODID:-//eluceo/ical//2.0/EN
VERSION:2.0
CALSCALE:GREGORIAN
BEGIN:VEVENT
UID:7c1404f91a8a8e6e8ff23658cb5ac8b2
DTSTAMP:20260423T145913Z
SUMMARY:Online kulatý stůl "Přenosy dat mimo EU\, aktuální vývoj a ot
 ázky"
DESCRIPTION:Název akce: Online kulatý stůl "Přenosy dat mimo EU\, aktu
 ální vývoj a otázky"\nURL: https://www.spcr.cz/online-kulaty-stul-pren
 osy-dat-mimo-eu-aktualni-vyvoj-otazky\nPopis: \n\nSoučasná situace v obl
 asti předávání dat je téměř rok po našem prvním kulatém stole k 
 aktuálním otázkám předávání osobních údajů mimo EU/EHP\, který
  se konal 28. ledna\, stále velmi nejasná. Ve spolupráci se Spolkem pro
  ochranu osobních údajů jsme se proto rozhodli navázat další společ
 nou akcí\, která se zaměří na aktuální stav předávání osobních
  údajů mimo EU a celkovou datovou strategii EU\, probíhající jednán
 í o novém Privacy Shieldu mezi EU a USA a post-brexitový přístup k oc
 hraně osobních údajů ve Spojeném království.\n \nRegistrovat se m
 ůžete zde.\n
URL:https://www.spcr.cz/online-kulaty-stul-prenosy-dat-mimo-eu-aktualni-vyv
 oj-otazky
DTSTART:20211216T140000
DTEND:20211216T160000
LOCATION:
END:VEVENT
END:VCALENDAR
