BEGIN:VCALENDAR
PRODID:-//eluceo/ical//2.0/EN
VERSION:2.0
CALSCALE:GREGORIAN
BEGIN:VEVENT
UID:df585abfb9d2c1c339c7c9ceae8e710e
DTSTAMP:20260423T125529Z
SUMMARY:Online seminář: VELKÁ BRITÁNIE – rok po brexitu
DESCRIPTION:Název akce: Online seminář: VELKÁ BRITÁNIE – rok po brex
 itu\nURL: https://www.spcr.cz/online-seminar-velka-britanie-rok-po-brexitu
 \nPopis: \n\nJak se změnila Velká Británie od 1. ledna 2021\, kdy skon
 čilo přechodné období a tím i volný pohyb zboží a osob s Evropsko
 u Unií? Jaké problémy to přineslo českým exportérům a naopak - jak
 é nové příležitosti vznikly?To bude hlavním tématem ONLINE seminá
 ře pořádaným CzechTrade.Jiří Rak\, ředitel zahraniční kanceláře
  CzechTrade v Londýně\, přiblíží současnou situaci v Británii a 
 přidá i doporučení\, jak oslovit a jednat s britskými klienty.Dr Fil
 ip Čeladník je anglicko-český advokát dlouhodobě působící v Lon
 dýně. Zaměřuje se mimo jiné na pomoc českým podnikatelům při jeji
 ch aktivitách ve Spojeném království a ve svém vystoupení zmíní mi
 mo jiné i některé praktické poznatky a doporučení.Aneta Jurošková\
 , ředitelka dceřiné společnosti RETIGO UK\, se podělí o své reáln
 é zkušenosti při založení pobočky a obchodování ve Velké Británi
 i.Anotace:\n\nAktuální situace ve Velké Británii\nDoporučení pro obc
 hodování a oslovení britského klienta\nNa co si dát pozor s ohledem 
 na místní právo a předpisy\nZaložení pobočky – jak na to\nPraktic
 ké zkušenosti českého exportéra při obchodování ve Velké Británi
 i\nOtázky a odpovědi\n\nVšechna vystoupení budou maximálně zaměře
 na na praktické aspekty exportu do Velké Británie.\nVíce informací v
 četně registrace zde: https://www.czechtrade.cz/kalendar-akci/archiv-ak
 ci/online-seminar_-velka-britanie-_-jeden-rok-po-brexitu\n \n
URL:https://www.spcr.cz/online-seminar-velka-britanie-rok-po-brexitu
DTSTART:20220119T100000
DTEND:20220119T113000
LOCATION:
END:VEVENT
END:VCALENDAR
