BEGIN:VCALENDAR
PRODID:-//eluceo/ical//2.0/EN
VERSION:2.0
CALSCALE:GREGORIAN
BEGIN:VEVENT
UID:8068343e209d396db325d5f6c04f9bf2
DTSTAMP:20260423T163252Z
SUMMARY:Taiwan Smart Agriweek 2021 virtuálně
DESCRIPTION:Název akce: Taiwan Smart Agriweek 2021 virtuálně\nURL: https
 ://www.spcr.cz/taiwan-smart-agriweek-2021-virtualne\nPopis: \n\nTaiwan Sma
 rt Agriweek je největší veletrh Agritech na Tchaj-wanu\, který se bude
  konat mezi 2. a 4. prosincem 2021 ve výstavní síni Nang Kang na míst
 ě a také ve virtuální podobě\, která se má konat od 2. do 31. prosi
 nce 2021. Mezi hlavní body výstavy patří Robotika a drony\, Chovatelsk
 á technologie a genetické inženýrství\, biologická bezpečnost a man
 agement nemocí\, cirkulární ekonomika\, sazenice a ochrana plodin a mno
 ho dalšího. Pro více informací brožura o veletrhu zde.\nV případě 
 zájmu je nutná registrace na internetové stránce dostupné zde: https:
 //online.taiwanagriweek.com/zh-tw.register.index.html\nV případě jakýc
 hkoli otázek se neváhejte obrátit na:\nAttila GÁLEconomic Division\, T
 aipei Economic and Cultural OfficeZastupitelství Tchaj-wanu v České re
 publiceEvropská 2590/33c\, 160 00 Praha 6Tel.: +420 234 722 021cztwec01@m
 oea.gov.tw\, cztwec01@gmail.com\n
URL:https://www.spcr.cz/taiwan-smart-agriweek-2021-virtualne
DTSTART:20211201T000000
DTEND:20211204T235959
LOCATION:
END:VEVENT
END:VCALENDAR
