BEGIN:VCALENDAR
PRODID:-//eluceo/ical//2.0/EN
VERSION:2.0
CALSCALE:GREGORIAN
BEGIN:VEVENT
UID:e268bd33c4e226bcaf79618ef7d4fc82
DTSTAMP:20260423T163202Z
SUMMARY:Smart City Summit Expo 2022 v Tchajpeji
DESCRIPTION:Název akce: Smart City Summit Expo 2022 v Tchajpeji\nURL: http
 s://www.spcr.cz/smart-city-summit-expo-2022-v-tchajpeji\nPopis: \n\n2022 S
 mart City Expo se má konat mezi 22. a 25. březnem 2022 v Tchajpeji a v K
 aohsiungu. Hlavní témata Smart City Expo budou následující:1)   Če
 lit novému normálu v rámci epidemiePlánuje se pozvat 500 společností
  v rozsahu 16 000 stánků 2)   K výstavě se připojí městská vlá
 da Kaohsiung\, město těžkého průmyslu a námořní přístav na jihu 
 Tchaj-wanu.Kromě Tchaj-pej a Taoyuanu\, který jsou jako obvykle hostitel
 skými městy\,  se vláda města Kaohsiung taky připojí k pořádání
  výstavy a zapojí se i do diskuse o digitální transformaci.3)   Uhl
 íková NeutralitaZa účelem dosažení uhlíkové neutrality v roce 2035
  budou společnosti v oblastech úspory energie\, výroby energie\, sklado
 vání energie a oběhového hospodářství vyzvány\, aby předvedly ře
 šení pro snižování emisí uhlíku.\nPro účast je nutná registrace\
 , kterou lze provést na následujícím linku: https://smartcity.org.tw/v
 ip    Deadline pro registraci je 17. ledna 2022.  V odkaze zde nalezne
 te oficiální brožuru 2022 Smart City Expo.\nV případě jakýchkoli ne
 jasností či otázek se neváhejte obrátit na:Attila GÁLEconomic Divisi
 on\, Taipei Economic and Cultural OfficeZastupitelství Tchaj-wanu v Čes
 ké republiceEvropská 2590/33c\, 160 00 Praha 6Tel.: +420 234 722 021cztw
 ec01@moea.gov.tw\, cztwec01@gmail.com\n
URL:https://www.spcr.cz/smart-city-summit-expo-2022-v-tchajpeji
DTSTART:20220322T000000
DTEND:20220325T235959
LOCATION:
END:VEVENT
END:VCALENDAR
