BEGIN:VCALENDAR
PRODID:-//eluceo/ical//2.0/EN
VERSION:2.0
CALSCALE:GREGORIAN
BEGIN:VEVENT
UID:9f1781b5a14b8b1e70d587e2722a3c95
DTSTAMP:20260423T130350Z
SUMMARY:Online seminář: Aktuální situace a příležitosti ve Skandiná
 vii se zaměřením na Švédsko
DESCRIPTION:Název akce: Online seminář: Aktuální situace a příležit
 osti ve Skandinávii se zaměřením na Švédsko\nURL: https://www.spcr.c
 z/online-seminar-aktualni-situace-prilezitosti-ve-skandinavii-se-zamerenim
 -na-svedsko\nPopis: \n\nZveme vás na on-line seminář agentury CzechTrad
 e\, na kterém vám ředitel zahraniční kanceláře CzechTrade ve Stockh
 olmu Tomáš Rousek představí aktuální možnosti možnosti expanze na
  skandinávské trhy. Jako host semináře vystoupí advokátka paní Kat
 eřina Strömsholm\, Honorární konzulka České republiky ve Švédsku\,
  která je odbornicí na legislativní problematiku vysílání pracovník
 ů do Švédska.\nAnotace:Ekonomická situace ve Skandinávii\, aktuální
  vývojPříležitosti na tamních trzích\, perspektivní oboryDodávky z
 boží a služeb do Skandinávie ve spolupráci s agenturou CzechTradeVys
 ílání pracovníků do Švédska (Kateřina Strömsholm)Služby CzechTra
 de pro exportéryOtázky & Odpovědi\nRegistrace a více informací na tom
 to odkazu.\n
URL:https://www.spcr.cz/online-seminar-aktualni-situace-prilezitosti-ve-ska
 ndinavii-se-zamerenim-na-svedsko
DTSTART:20211202T100000
DTEND:20211202T113000
LOCATION:
END:VEVENT
END:VCALENDAR
