BEGIN:VCALENDAR
PRODID:-//eluceo/ical//2.0/EN
VERSION:2.0
CALSCALE:GREGORIAN
BEGIN:VEVENT
UID:681213f4a2ba8fabd37f1c037a5b7178
DTSTAMP:20260423T163124Z
SUMMARY:Online seminář: Jak na export do zemí STŘEDNÍ AMERIKY (Guatema
 la\, Kostarika\, Panama)
DESCRIPTION:Název akce: Online seminář: Jak na export do zemí STŘEDNÍ
  AMERIKY (Guatemala\, Kostarika\, Panama)\nURL: https://www.spcr.cz/online
 -seminar-jak-na-export-do-zemi-stredni-ameriky-guatemala-kostarika-panama\
 nPopis: \n\nZajímáte se o export do zemí Střední Ameriky? Ředitelk
 a zahraniční kanceláře CzechTrade v Mexiku\, Tereza Vítková vám př
 edstaví příležitosti na místních trzích.\nVíce informací a regist
 race\n
URL:https://www.spcr.cz/online-seminar-jak-na-export-do-zemi-stredni-amerik
 y-guatemala-kostarika-panama
DTSTART:20211207T140000
DTEND:20211207T153000
LOCATION:
END:VEVENT
END:VCALENDAR
