BEGIN:VCALENDAR
PRODID:-//eluceo/ical//2.0/EN
VERSION:2.0
CALSCALE:GREGORIAN
BEGIN:VEVENT
UID:d8eb29375429006f8db9f02beb12dd88
DTSTAMP:20260423T162829Z
SUMMARY:Prezentace analýzy „Podpora exportu - státní versus tržní mo
 del financování“
DESCRIPTION:Název akce: Prezentace analýzy „Podpora exportu - státní 
 versus tržní model financování“\nURL: https://www.spcr.cz/prezentace
 -analyzy-podpora-exportu-statni-versus-trzni-model-financovani-0\nPopis: \
 n\nZveme Vás na prezentaci výsledků analýzy „Podpora exportu - stát
 ní versus tržní model financování“ a následnou diskusi ve středu 
 8. prosince od 9.00 v sídle Svazu průmyslu a dopravy ČR.\nCílem analý
 zy bylo získání dat\, která umožní zhodnotit vhodnost opatření pro
  prostředí České republiky\, zejména s ohledem na systém plně říz
 ený a financovaný státem vs. systém s významným zapojením privátn
 ího sektoru\, a formulovat tak možné alternativy řešení i pro zefekt
 ivnění systému podpory exportu.Pro více informací si prosím stáhn
 ěte pozvánku.Odkaz pro registraci\n
URL:https://www.spcr.cz/prezentace-analyzy-podpora-exportu-statni-versus-tr
 zni-model-financovani-0
DTSTART:20211208T090000
DTEND:20211208T120000
LOCATION:
END:VEVENT
END:VCALENDAR
