BEGIN:VCALENDAR
PRODID:-//eluceo/ical//2.0/EN
VERSION:2.0
CALSCALE:GREGORIAN
BEGIN:VEVENT
UID:91391940affdcb2fd750c108dc2b2bdd
DTSTAMP:20260423T150246Z
SUMMARY:Konference FENOMÉN 2022
DESCRIPTION:Název akce: Konference FENOMÉN 2022\nURL: https://www.spcr.cz
 /konference-fenomen-2022\nPopis: \n\nBaťův Zlín přivítá 24. března 
 2022 ty největší manažerské špičky. Petr Pavel\, Radek Špicar\, Ma
 rtin Vohánka\, Sara Polak\, Filip Fingl i Petra Plemlová napoví\, jak o
 bjevit Flexibilitu a její DNA.\n\nKonference FENOMÉN přivítá už tře
 tím rokem manažerské špičky z celé ČR. Akce pro 400 byznysmenů z c
 elé ČR a je největší svého druhu u nás. Přednášky řečníků bu
 de možné prvním rokem sledovat nejen prezenčně\, ale také online. Po
 řadatelem konference je zlínská vzdělávací agentura CE-PA a Svaz pr
 ůmyslu a dopravy ČR jí poskytl záštitu.\nNa čtyřech stageích se mo
 hou hosté těšit na více než dvě desítky řečníků. Více na webu 
 akce zde.\n
URL:https://www.spcr.cz/konference-fenomen-2022
DTSTART:20220324T000000
DTEND:20220324T235959
LOCATION:
END:VEVENT
END:VCALENDAR
