BEGIN:VCALENDAR
PRODID:-//eluceo/ical//2.0/EN
VERSION:2.0
CALSCALE:GREGORIAN
BEGIN:VEVENT
UID:52600a072f6a3b4df4ccafe6c190ac23
DTSTAMP:20260423T125836Z
SUMMARY:Seminář estonského svazu elektroniky IPC Day 2021: From EMS to t
 he Moon and beyond
DESCRIPTION:Název akce: Seminář estonského svazu elektroniky IPC Day 20
 21: From EMS to the Moon and beyond\nURL: https://www.spcr.cz/seminar-esto
 nskeho-svazu-elektroniky-ipc-day-2021-ems-moon-and-beyond\nPopis: \n\nZvem
 e vás na pravidelnou konferenci a seminář estonského svazu elektroniky
  IPC Day 2021 s podtitulem From EMS to the Moon and beyond. Na akci se se
 jdou představitelé čelních estonských a zahraničních firem v oblast
 i elektroniky\, zástupci estonské vlády a finančního sektoru.\nPracov
 ním jazykem je angličtina. Účast na akci je zdarma. \nVíce informac
 í společně s registračním formulářem je možné nalézt na stránce
  Estonského svazu elektroniky\, který je pořadatelem akce.\nProgram sem
 ináře:\n10.00 – 10:15 Gathering and welcome coffee\n10:15 – 10:25 We
 lcome and Introduction\nAndo Leppiman\, Secretary General\, Ministry of Ec
 onomics and Telecommunications\nOtto Pukk\, Chairman of the Estonian Elect
 ronics Industries Association\nPhilippe Leonard\, Europe director\, IPC\n1
 0:25 – 11:10 “EMS - the next generation”\nDieter G. Weiss\, research
 er of in4ma\, Marketresearch & Analyses\n11:10 – 11:40 Bolstering EU ind
 ustrial Strategy for Electronics Manufacturing”\nAlison James\, Senior D
 irector\, IPC European Government Relations and Leo Sant- Martin\, Decisio
 n Etudes & Conseils\n11:40 – 12:10 Estonian Electronics Industry\nArno K
 olk\, Managing Director\, Estonian Electronics Industries Association\n12:
 10 – 13.10 Lunch and EXPO\n13:10– 13.35 “The KATEK Story – “Mak
 ing of an European Leader”  \nRainer Koppitz\, CEO\, Katek SE \n13:35
  – 14:00 Environmental\, social and corporate governance recommendations
  for EMS partners\nAndreas Engberg\, Head of Supply Site Tallinn\, Ericss
 on\n14:00 – 14:25 Customer story: "From prototyping to manufacturing in
  Estonia"\nMarkus Järve\, Electronics Product Manager\, Ampler bikes\n14:
 25 – 14:50 “Time To Value”         \nOla Thers\, CEO\, SMT 
 Renting\n14.50 – 15.30 Coffee Break and EXPO\n15:30 – 15:55 “Open Au
 tomation in SMT Electronics Factories”\nRob Raine\, Manager Technical So
 lutions\, ASM Pacific Technology\n15.55 – 17.00 Round table: Is the Moon
  the limit? Estonian companies discuss their experience from building the 
 Moon camera for NASA\n17.00 – 17.10 Wrap up\n17.10 – 19.00 Reception b
 y Estonian Electronics Industries Association and IPC\n \n
URL:https://www.spcr.cz/seminar-estonskeho-svazu-elektroniky-ipc-day-2021-e
 ms-moon-and-beyond
DTSTART:20211202T100000
DTEND:20211202T190000
LOCATION:
END:VEVENT
END:VCALENDAR
