BEGIN:VCALENDAR
PRODID:-//eluceo/ical//2.0/EN
VERSION:2.0
CALSCALE:GREGORIAN
BEGIN:VEVENT
UID:fb49405d90570071d7558885bf130741
DTSTAMP:20260423T150254Z
SUMMARY:Exportní a inovační fórum při Dni podnikatelů České republi
 ky
DESCRIPTION:Název akce: Exportní a inovační fórum při Dni podnikatel
 ů České republiky\nURL: https://www.spcr.cz/exportni-inovacni-forum-pri
 -dni-podnikatelu-ceske-republiky\nPopis: \n\nDovolujeme se vás pozvat na 
 Exportní a Inovační fórum při Dni podnikatelů ČR pořádané Asocia
 cí malých a středních podniků.\nFórum se bude konat ve Čtvrtek 25.
  listopadu 2021 od 14 do 16 hodin v hotelu Ambassador-Zlatá Husa (Václav
 ské náměstí 5\, Praha 1).\nDozvíte se:\n"JAK CHYTŘE EXPORTOVAT NÁKL
 ADY"ANEB CHYTRÝ VYRÁBÍ\, CHYTŘEJŠÍ PRODÁ MYŠLENKU (TRANSFER TECHNO
 LOGIÍ\, NÁKUP A PRODEJ LICENCÍ ČI PATENTŮ\, NOVÉ EXPORTNÍ PŘÍLEŽ
 ITOSTI PRO INOVATIVNÍ FIRMY).\nPodrobný program a možnost registrace z
 de.\n \n \n \n
URL:https://www.spcr.cz/exportni-inovacni-forum-pri-dni-podnikatelu-ceske-r
 epubliky
DTSTART:20211125T140000
DTEND:20211125T160000
LOCATION:
END:VEVENT
END:VCALENDAR
