BEGIN:VCALENDAR
PRODID:-//eluceo/ical//2.0/EN
VERSION:2.0
CALSCALE:GREGORIAN
BEGIN:VEVENT
UID:054850ef9ff1abc9e798d1cd75a4b20a
DTSTAMP:20260423T125523Z
SUMMARY:Moldova Export Partnerships: On-line B2B s moldavskými firmami
DESCRIPTION:Název akce: Moldova Export Partnerships: On-line B2B s moldavs
 kými firmami\nURL: https://www.spcr.cz/moldova-export-partnerships-line-b
 2b-s-moldavskymi-firmami\nPopis: \n\nZveme vás na virtuální setkání s
  firmami z Moldavska\, které bude probíhat v rámci akce Moldova Export 
 Partnerships od 24. do 26. listopadu. České společnosti zde budou mít 
 možnost navázat kontakty s moldavskými výrobci\, dodavateli a zákazn
 íky z různých průmyslových odvětví od automobilového průmyslu a o
 bnovitelných zdrojů přes ICT\, stavebnictví až k zemědělství a po
 travinářství.\nVirtuální platforma kromě propojení s moldavskými p
 rotějšky umožní firmám vytvořit si vlastní profil s prezentací sv
 ých výrobků a služeb. \nVíce informací společně s registrací na 
 akci je možné nalézt na tomto odkazu: https://partnership-for-exports.
 b2match.io/\n\n \n
URL:https://www.spcr.cz/moldova-export-partnerships-line-b2b-s-moldavskymi-
 firmami
DTSTART:20211124T000000
DTEND:20211126T235959
LOCATION:
END:VEVENT
END:VCALENDAR
