BEGIN:VCALENDAR
PRODID:-//eluceo/ical//2.0/EN
VERSION:2.0
CALSCALE:GREGORIAN
BEGIN:VEVENT
UID:f8d7ede5f30586eda0569a36a95db2f4
DTSTAMP:20260423T150341Z
SUMMARY:DEN SE ZEMEDĚLSKÝM DIPLOMATEM V SRBSKU
DESCRIPTION:Název akce: DEN SE ZEMEDĚLSKÝM DIPLOMATEM V SRBSKU\nURL: htt
 ps://www.spcr.cz/den-se-zemedelskym-diplomatem-v-srbsku\nPopis: \n\nZVEME 
 VÁS TÍMTO NA ONLINE SETKÁNÍ (á 30 min) ve středu 24. 11. 2021 od 9 h
 od do 16 hod.\nZemědělský diplomat\, Ing. Vladimír Váňa\, je připra
 ven s Vámi prodiskutovat konkrétní témata\, která Vás z daného te
 ritoria zajímají.\nINDIVIDUÁLNÍ KONZULTACE mají časovou dotaci á 30
  min\, proběhnou na platformě MS Teams. Účast je zdarma.\nV případě
  zájmu prosím pište do 19. 11. 2021 na email: eva.eliasova@mze.cz Va
 še preferované časové rozmezí nebo volejte na tel. 727 838 805.\nPot
 vrzený termín schůzky a odkaz pro přihlášení Vám sdělíme e-maile
 m nejpozději do tří dnů od zaslání Vašeho požadavku.\nPozvánka ke
  stažení\n
URL:https://www.spcr.cz/den-se-zemedelskym-diplomatem-v-srbsku
DTSTART:20211124T090000
DTEND:20211124T160000
LOCATION:
END:VEVENT
END:VCALENDAR
