BEGIN:VCALENDAR
PRODID:-//eluceo/ical//2.0/EN
VERSION:2.0
CALSCALE:GREGORIAN
BEGIN:VEVENT
UID:7166e1214870ab9765ad77dc4e679655
DTSTAMP:20260423T150509Z
SUMMARY:Inspirační fórum IHRA2021 
DESCRIPTION:Název akce: Inspirační fórum IHRA2021 \nURL: https://www.sp
 cr.cz/inspiracni-forum-ihra2021\nPopis: \n\nInspirační fórum IHRA 2021
  spolupořádají FoRS a Charita ČR ve středu 10. 11. od 14 do 20 hodin
  v restauraci Spojka Karlín Pernerova 697/35\, Praha 8 - Karlín.\nAkce m
 á za cíl představit a prodiskutovat možnosti spolupráce na inovacích
  v zahraniční rozvojové spolupráci a humanitární pomoci ze strany NN
 O\, akademického sektoru a byznysu pro řešení aktuálních rozvojovýc
 h výzev v partnerských zemích. Úvodní příspěvek představí zástu
 pkyně UNDP\, na panelu pak vystoupí zástupci a zástupkyně NNO (Charit
 a ČR\, Člověk v tísni)\, akademického sektoru (MENDELU) a byznysu (DO
 T Glasses\, Geotest)\, následují 2 workshopy a prostor pro networking.\n
 Pozvánku na fórum IHRA naleznete zde:  https://drive.google.com/file/d
 /1FzT2f8aep-mTu_Cc5GOMBORhpmqUPrL5/view \nPřihlašovat se lze zde: https
 ://forms.office.com/r/mKaAv36VFu\nKontakt:Pavel Přibylředitel/ directorF
 oRS - České fórum pro rozvojovou spolupráciFoRS - Czech Forum for Deve
 lopment CooperationA > Vladislavova 1460/12\, 110 00 Praha 1\, CzechiaM > 
 +420 603 207 249E > pavel.pribyl@fors.cz\n
URL:https://www.spcr.cz/inspiracni-forum-ihra2021
DTSTART:20211110T140000
DTEND:20211110T200000
LOCATION:
END:VEVENT
END:VCALENDAR
