BEGIN:VCALENDAR
PRODID:-//eluceo/ical//2.0/EN
VERSION:2.0
CALSCALE:GREGORIAN
BEGIN:VEVENT
UID:98ab096a6c807a7df9bc59dab8b9e434
DTSTAMP:20260423T124932Z
SUMMARY:Swiss Innovation Forum - MSV Brno
DESCRIPTION:Název akce: Swiss Innovation Forum - MSV Brno\nURL: https://ww
 w.spcr.cz/swiss-innovation-forum-msv-brno-1\nPopis: \n\nObchodní komora 
 Švýcarsko - Česká republika pořádá na MSV v Brně „Swiss Innova
 tion Forum“ dne 10. listopadu 2021 od 09.45 hodin. \nContinuing the tra
 dition of Swiss business community meeting at MSV and creating a platform 
 enabling Swiss companies to jointly present their innovative technologies 
 and solutions under the umbrella brand\, Chamber of Commerce Switzerland
  - Czech Republic invites to "Swiss Innovation Forum“.the registration l
 ink here.\nContact info:\nBarbara JohnJednatelkaHST Obchodní komora Švý
 carsko - Česká republikaHST Handelskammer Schweiz - Tschechische Repub
 likHST Chamber of Commerce Switzerland - Czech RepublicJankovcova 1569/2c
 170 00 Praha 7T. 222 516 614M. 725 030 513\n
URL:https://www.spcr.cz/swiss-innovation-forum-msv-brno-1
DTSTART:20211110T094500
DTEND:20211110T123000
LOCATION:
END:VEVENT
END:VCALENDAR
