BEGIN:VCALENDAR
PRODID:-//eluceo/ical//2.0/EN
VERSION:2.0
CALSCALE:GREGORIAN
BEGIN:VEVENT
UID:59d017b97cd80d18fdc4ef0a26772f2e
DTSTAMP:20260423T125757Z
SUMMARY:Česko-indonéské obchodní fórum a B2B v Brně
DESCRIPTION:Název akce: Česko-indonéské obchodní fórum a B2B v Brně\
 nURL: https://www.spcr.cz/cesko-indoneske-obchodni-forum-b2b-v-brne-0\nPop
 is: \n\nU příležitosti 5. zasedání Česko-indonéského smíšeného 
 výboru pro hospodářskou spolupráci přicestují do ČR indonéští po
 dnikatelé\, aby navštívili Mezinárodní strojírenský veletrh v Brně
  a setkali se s českými firmami.Dovolujeme si Vás tedy pozvat na Česko
 -indonéské obchodní fórum a B2B jednání\, které proběhne ve stře
 du 10. listopadu 2021 od 14:00 hodin  (registrace bude od 13:45 hodin) v
  Kinosále 102\, v 1.patře administrativní budovy BVV v Brně.\nPozván
 ku na akci najdete zde.Akce navazuje na červnovou podnikatelskou misi dop
 rovázející ministra životního prostředí Richarda Brabce a náměstk
 yni ministra průmyslu a obchodu Martinu Tauberovou\, kde podnikatelé mě
 li možnost jednat s firmami v Jakartě\, Medanu a v Banda Acehu.Nyní p
 řijíždějí zástupci ochoddních firem z oblasti chemického\, petro
 chemického\, stavebního\, zdravotnického\, energetického\, cestovního
  a potravinářského průmyslu\, včetně zástupců Asociace malých 
 a středních firem. Seznam indonéské delegace najdete zde.Akce je zdar
 ma\, ale podléhá registraci v odkaze zde do 9.11. 2021. \n
URL:https://www.spcr.cz/cesko-indoneske-obchodni-forum-b2b-v-brne-0
DTSTART:20211110T140000
DTEND:20211110T170000
LOCATION:
END:VEVENT
END:VCALENDAR
