BEGIN:VCALENDAR
PRODID:-//eluceo/ical//2.0/EN
VERSION:2.0
CALSCALE:GREGORIAN
BEGIN:VEVENT
UID:cb716725eeb8a6df58c4625aacdd7aee
DTSTAMP:20260423T150144Z
SUMMARY:Webinář na téma robotiky a česko-tchajwanské spolupráce
DESCRIPTION:Název akce: Webinář na téma robotiky a česko-tchajwanské 
 spolupráce\nURL: https://www.spcr.cz/webinar-na-tema-robotiky-cesko-tchaj
 wanske-spoluprace-0\nPopis: \n\nČeská ekonomická a kulturní kancelář
  v Tchaj-peji srdečně Vás zve na webinář na téma robotiky\, kter
 ý se uskuteční 4. listopadu od 8\,00 do 10\,45 hodin. Během akce zás
 tupci z řad českých a tchajwanských univerzit a firem představí sv
 é výzkumné úspěchy a inovativní řešení právě z oblasti robotik
 y\, automatizace\, AI\, strojového učení aj. Pozvánka na webinář zd
 e. \nPředběžný program webináře najdete zde. Pro více informací
  kontaktujte paní Marii Leflerovou\, Head of Science & Technology Section
 \, Czech Economic and Cultural Office in Taipei: Marie_Leflerova@mzv.cz.\
 nAkce proběhne v angličtině. Kapacita účastníků je omezena.\n
URL:https://www.spcr.cz/webinar-na-tema-robotiky-cesko-tchajwanske-spolupra
 ce-0
DTSTART:20211104T080000
DTEND:20211104T104500
LOCATION:
END:VEVENT
END:VCALENDAR
