BEGIN:VCALENDAR
PRODID:-//eluceo/ical//2.0/EN
VERSION:2.0
CALSCALE:GREGORIAN
BEGIN:VEVENT
UID:93f4e3963ae43fea80a39ae9d6f80926
DTSTAMP:20260423T163311Z
SUMMARY:Obchodní fórum V4 + Jižní Korea
DESCRIPTION:Název akce: Obchodní fórum V4 + Jižní Korea\nURL: https://
 www.spcr.cz/obchodni-forum-v4-jizni-korea\nPopis: \n\nNa okraj nadcházej
 ícího summitu V4 + Jižní Korea uspořádá dne 3. listopadu 2021 (v 15
 :30) v Budapešti maďarské ministerstvo zahraničních věcí a obchodu 
 a maďarská agentura pro podporu exportu obchodní forum V4 + Jižní Kor
 ea.\n\nMaďarská strana zve na toto setkání s korejskými partnery firm
 y ze zemí V4\, tedy i z ČR\, přičemž z každé země může dorazit a
 ž cca 10 firem.  V případě zájmu o setkání s korejskými firmami k
 ontaktujte prosím zástupce obchodního úseku maďarského velvyslanectv
 í v ČR Gábora Korcsmárose\, na kterého se můžete obrátit jak email
 em (GKorcsmaros@mfa.gov.hu či gkorcsmaros@gmail.com - oboje v kopii) - č
 i na mobilním čísle (+ 420 725 878 175). Pan Korcsamáros hovoří čes
 ky.\nSeznam předběžně potvrzených jihokorejských firem:GVC/Green are
 a: (TBD) -          Lotte Aluminium -          Samsung SDI -   
        SK on -          LG Energy Solution -          POSCO 
 -          Mando Corp -           SoulBrain -          ench
 em -          SungEel HiTech -          Kia Corporation Bio area
 : (TBD) -          Celltrion Healthcare -          GC Medical Sc
 ience \nDigital/Infra area: (TBD)-          Samsung Eletronics-    
       Doosan Skoda Power\n
URL:https://www.spcr.cz/obchodni-forum-v4-jizni-korea
DTSTART:20211103T153000
DTEND:20211103T173000
LOCATION:
END:VEVENT
END:VCALENDAR
