BEGIN:VCALENDAR
PRODID:-//eluceo/ical//2.0/EN
VERSION:2.0
CALSCALE:GREGORIAN
BEGIN:VEVENT
UID:eb9994b98a00061e2ffc1915a751fb3c
DTSTAMP:20260423T125131Z
SUMMARY:Digitální transformace
DESCRIPTION:Název akce: Digitální transformace\nURL: https://www.spcr.cz
 /digitalni-transformace\nPopis: \n\nKoronavirová krize nejen urychlila pr
 obíhající digitalizaci ve firmách\, ale zejména ukázala nutnost toho
 to procesu pro další holé přežití firem ve střednědobém horizontu
 . Na našem semináři se dozvíte o trendech v digitální transformaci\,
  o práci s daty a informacemi a také to\, že digitální transformace j
 e nutná zejména pro malé firmy. Konferenci "Digitální transformace" p
 ořádáme ve spolurpáci s členskou společností AI check\, s.r.o.\nKon
 ferencí vás provede pan JIří Holoubek\, prezident Elektrotechnické as
 ociace České republiky.\nKdy: 09. 11. 2021 od 10h (cca do 12h)Kde: Souč
 ást Mezinárodního strojírenského veletrhu\, Brno - Výstaviště\, pa
 vilon P\, sál P4.\nÚčast na konferenci je zdarma\, podmíněna registra
 cí. Po registraci obdržíte do emailu i kód pro volnou vstupenku na vel
 etrh.\n
URL:https://www.spcr.cz/digitalni-transformace
DTSTART:20211109T100000
DTEND:20211109T120000
LOCATION:
END:VEVENT
END:VCALENDAR
