BEGIN:VCALENDAR
PRODID:-//eluceo/ical//2.0/EN
VERSION:2.0
CALSCALE:GREGORIAN
BEGIN:VEVENT
UID:4f984c0ac5d6d1b6dfe97173d5a0981b
DTSTAMP:20260423T163252Z
SUMMARY:Annual Partner ElA blockchain meeting
DESCRIPTION:Název akce: Annual Partner ElA blockchain meeting\nURL: https:
 //www.spcr.cz/annual-partner-ela-blockchain-meeting\nPopis: \n\nVýroční
  konference k průmyslovému blockchainu úspěšně fungujícímu v ČR (
 a nejen tam). Přijďte se dozvědět\, co blockchain je\, jak ho použív
 at a jaké možnosti skýtá. Na setkání se dozvíte praktické zkušeno
 sti z výstavby a provozování systému. Také zjistíte\, jak snadné je
  se zapojit.\nKonferencí vás provede pan Otto Havle\, předseda předsta
 venstva ELA Blockchain services a.s.\nKdy: 09. 11. 2021 od 14h (cca do 17h
 )Kde: Součást Mezinárodního strojírenského veletrhu\, Brno - Výstav
 iště\, pavilon P\, sál P4\nÚčast na konferenci je zdarma\, podmíněn
 a registrací. Po registraci obdržíte do emailu i kód pro volnou vstupe
 nku na veletrh.\n
URL:https://www.spcr.cz/annual-partner-ela-blockchain-meeting
DTSTART:20211109T140000
DTEND:20211109T170000
LOCATION:
END:VEVENT
END:VCALENDAR
