BEGIN:VCALENDAR
PRODID:-//eluceo/ical//2.0/EN
VERSION:2.0
CALSCALE:GREGORIAN
BEGIN:VEVENT
UID:86b123cd693933c48d8a580812bf563c
DTSTAMP:20260423T125059Z
SUMMARY:Online: Impact of the DMA on Consumer Experience 
DESCRIPTION:Název akce: Online: Impact of the DMA on Consumer Experience \
 nURL: https://www.spcr.cz/online-impact-dma-consumer-experience\nPopis: \n
 \nOn behalf of the Confederation of Industry of the Czech Republic and Vic
 e-President of the European Parliament Marcel Kolaja\, we invite you to an
  online event dedicated to the Digital Markets Act. Renowned guests will b
 e discussing the legislation's potential impact on the European consumer e
 xperience as well as for companies. We will look at selected key passages 
 from the regulation\, such as some of the stated obligations of gatekeeper
 s\, or ensuring the enforceability of the DMA.\nAGENDA\n11:00 - 11:05 Welc
 ome and introductionsMilena Jabůrková\, Vice-President\, Confederation o
 f Industry of the Czech Republic11:05 - 11:15 Keynote Speech Marcel Kolaja
 \, Vice-President\, European Parliament 11:15 - 12:15 Discussion Panel - D
 MA impact on European consumers• Moderator: Kryštof Kruliš\, Consumer 
 Forum• Petr Solský\, Vice-President\, Office for the Protection of Comp
 etition• Marcel Kolaja\, Vice-President\, European Parliament• Elisabe
 tta Righini\, Partner\, Latham & Watkins • Petr Šmelhaus\, Head of Lega
 l Department\, dTest12:15 – 12:25 Questions and answers12:25 – 12:30 C
 losing remarksMilena Jabůrková\, Vice-President\, Confederation of Indus
 try of the Czech Republic\nREGISTRATION\n\nRegister HERE for the online ev
 ent.\n
URL:https://www.spcr.cz/online-impact-dma-consumer-experience
DTSTART:20211104T110000
DTEND:20211104T123000
LOCATION:
END:VEVENT
END:VCALENDAR
